BEGIN:VCALENDAR
VERSION:2.0
METHOD:PUBLISH
PRODID:-//Tendenci - The Open Source AMS for Associations//Tendenci Codeba
 se MIMEDIR//EN
BEGIN:VEVENT
DTSTAMP:20260422T083134Z
ORGANIZER:FSPI
DTSTART:20260427T094500Z
DTEND:20260427T120000Z
LOCATION:Restaurant Vieux Bois
TRANSP:OPAQUE
SEQUENCE:0
UID:uid451@amclub.ch
DESCRIPTION:--- This iCal file does *NOT* confirm registration.\nEvent det
 ails subject to change. ---\nhttps://www.amclub.ch/events/451/\n\nEvent Ti
 tle: Luncheon debate with Mr. Jemal Inaishvili\nStart Date / Time: Apr 27
 , 2026 11:45 AM Europe/Zurich\nLocation: Restaurant Vieux Bois\nGoogle\nht
 tp://maps.google.com/maps?q=Avenue+de+la+Paix+12,,Geneva,,1202\n\nForecast
 \nhttp://www.weather.com/weather/monthly/1202\n\nLuncheon debate with Mr. 
 Jemal Inaishvili, Georgian businessman, and former president and advisory 
 board member of the Confederation of Asia Pacific Chambers of Commerce and
  Industry (CACCI). \nOn the theme &ldquo\;The Middle Corridor: Key Trade A
 rtery in Eurasian Geopolitics&rdquo\; (luncheon debate in English).\nWe ar
 e delighted that the AIC is invited to attend the following event. Book di
 rectly with the FSPI - link here\n\n \n\n\n--- This iCal file does *NOT* c
 onfirm registration.Event details subject to change. ---\n\n--- By Tendenc
 i - The Open Source AMS for Associations ---\n
SUMMARY:Luncheon debate with Mr. Jemal Inaishvili
PRIORITY:5
CLASS:PUBLIC
BEGIN:VALARM
TRIGGER:-PT30M
ACTION:DISPLAY
DESCRIPTION:Reminder
END:VALARM
END:VEVENT
BEGIN:VEVENT
DTSTAMP:20260422T083134Z
ORGANIZER:
DTSTART:20260507T163000Z
DTEND:20260507T180000Z
LOCATION:Luigia Pizzeria
TRANSP:OPAQUE
SEQUENCE:0
UID:uid454@amclub.ch
DESCRIPTION:--- This iCal file does *NOT* confirm registration.\nEvent det
 ails subject to change. ---\nhttps://www.amclub.ch/events/454/\n\nEvent Ti
 tle: May Apero\nStart Date / Time: May 07, 2026 18:30 PM Europe/Zurich\nLo
 cation: Luigia Pizzeria\nGoogle\nhttp://maps.google.com/maps?q=Geneva+Rue+
 de+la+Confédération+6,,Geneva,1204\n\nForecast\nhttp://www.weather.com/w
 eather/monthly/1204\n\nAIC May Apero \nWe&rsquo\;re delighted to welcome A
 IC members and guests to our monthly Apero. \n \n \n\nIt&rsquo\;s a relaxe
 d get-together where you can meet, mingle, and network &mdash\; held on th
 e first Thursday of every month. \n\nWhen 7 May 202618:30 &ndash\; 20:00\n
 WhereLuigia - Conf&eacute\;d&eacute\;ration Centre6-10 Rue de la Confedera
 tion, 1204  Gen&egrave\;ve\n\n\nNo sign-up needed &mdash\; just drop by an
 d enjoy!\nOpen cash bar available.\n \n \n\n--- This iCal file does *NOT* 
 confirm registration.Event details subject to change. ---\n\n--- By Tenden
 ci - The Open Source AMS for Associations ---\n
SUMMARY:May Apero
PRIORITY:5
CLASS:PUBLIC
BEGIN:VALARM
TRIGGER:-PT30M
ACTION:DISPLAY
DESCRIPTION:Reminder
END:VALARM
END:VEVENT
BEGIN:VEVENT
DTSTAMP:20260422T083134Z
ORGANIZER:
DTSTART:20260521T150000Z
DTEND:20260521T180000Z
LOCATION:Domaine de Terre-Neuve
TRANSP:OPAQUE
SEQUENCE:0
UID:uid453@amclub.ch
DESCRIPTION:--- This iCal file does *NOT* confirm registration.\nEvent det
 ails subject to change. ---\nhttps://www.amclub.ch/events/453/\n\nEvent Ti
 tle: AIC Wine Tasting / Dégustation in Canton Vaud\nStart Date / Time: Ma
 y 21, 2026 17:00 PM Europe/Zurich\nLocation: Domaine de Terre-Neuve\nGoogl
 e\nhttp://maps.google.com/maps?q=Terre-Neuve+6,Saint-Prex,1132\n\nForecast
 \nhttp://www.weather.com/weather/monthly/1132\n\nAIC Wine Tasting / D&eacu
 te\;gustation in Canton Vaud\nAs part of our initiative to offer events in
  Canton Vaud, the AIC is delighted to host a wine tasting that will take p
 lace at Domaine de Terre-Neuve, a family-owned vineyard near Saint-Prex.  
 Here are the details for this special social event:\n \nDate:  Thursday, 2
 1 May 2026\nTime:  17:00 to 20:00\nLocation:  Domaine de Terre-Neuve (Terr
 e-Neuve 6, 1132 Saint-Prex)\nhttps://terreneuve.ch\n \nRegistration:\nPric
 ing = CHF 25 per person - both members and non-members are welcome.\n \n*W
 hilst the payment will be made directly to the Domaine, registration befor
 ehand is obligatory so we can have an idea of numbers.*\n \nProgram includ
 es a group visit to the cellar and a wine tasting conducted by the owner i
 n English.\n \nWine tasting with light ap&eacute\;ratif (charcuterie, chee
 se and bread).  Non-alcoholic beverages also provided (apple juice, carafe
 s of water). \nPayment upon arrival - methods accepted:  cash, Twint, debi
 t card, Visa, MasterCard.\nRegistration deadline:  Monday, 18 May 2026.\n 
 \nDirections:  \nAutomobile:  Autoroute A1, exit at Morges, drive to Route
  de Suisse, turn right onto Chemin de Perreret, follow signs to domaine.\n
 Public transportation:  Train to Morges, take Bus 702 to stop Tolochenaz L
 es Saux, walk 21 minutes, follow signs to domaine.\nGiven the remote locat
 ion, we highly recommend coming by automobile and carpooling.  Note: drivi
 ng via Route de Suisse is more direct than taking alternative routes propo
 sed by GPS.\n \nContacts for further information:  \nPatricia Carolyn Fier
 ro - 076 389 57 06, Phillip Sundquist - 079 620 82 71\n\n--- This iCal fil
 e does *NOT* confirm registration.Event details subject to change. ---\n\n
 --- By Tendenci - The Open Source AMS for Associations ---\n
SUMMARY:AIC Wine Tasting / Dégustation in Canton Vaud
PRIORITY:5
CLASS:PUBLIC
BEGIN:VALARM
TRIGGER:-PT30M
ACTION:DISPLAY
DESCRIPTION:Reminder
END:VALARM
END:VEVENT
BEGIN:VEVENT
DTSTAMP:20260422T083134Z
ORGANIZER:
DTSTART:20260526T163000Z
DTEND:20260526T183000Z
LOCATION:Luigia Pizzeria
TRANSP:OPAQUE
SEQUENCE:0
UID:uid452@amclub.ch
DESCRIPTION:--- This iCal file does *NOT* confirm registration.\nEvent det
 ails subject to change. ---\nhttps://www.amclub.ch/events/452/\n\nEvent Ti
 tle: Chinese Geo-economics and the Chinese Dream\nStart Date / Time: May 2
 6, 2026 18:30 PM Europe/Zurich\nLocation: Luigia Pizzeria\nSpeaker: Dr. Do
 minique Jolly\nGoogle\nhttp://maps.google.com/maps?q=Geneva+Rue+de+la+Conf
 édération+6,,Geneva,1204\n\nForecast\nhttp://www.weather.com/weather/mon
 thly/1204\n\nChinese Geo-economics: Maneuvering for the Chinese Dream\nDr.
  Dominique Jolly, Business Strategy Expert\nBOOKINGS OPEN SOON\nAs part of
  our Professionals &amp\; Entrepreneurs series, the AIC is delighted to ho
 st this evening event where Dr. Jolly will share his expertise on China an
 d highlight the main points of his new book "Chinese Geo-economics: Maneuv
 ering for the Chinese Dream".  Come join us for a lively discussion on thi
 s major geo-economic topic.\nChina has come a long way since its opening i
 n 1978, accomplishing impressive economic, financial, and even technologic
 al successes.\n Yet, after four decades of high demand, and indeed becomin
 g the second best-performing economy in the world, the situation has chang
 ed. Why has China become less attractive? This presentation answers that q
 uestion, showing how Chinese political leaders have shifted gears since Ch
 ina came back on the scene, and elaborating on how we&rsquo\;ve arrived at
  the current turning point. \nGeopolitics are complex, and the geo-economi
 cs of China even more so. Through this talk, you will gain a deeper unders
 tanding of how various economic, political and social factors have created
  the conditions surrounding China and the global economy today. It is a mu
 st hear for anyone looking to gain a better understanding of the stakes an
 d risks associated with activities in contemporary China.  \n\n--- This iC
 al file does *NOT* confirm registration.Event details subject to change. -
 --\n\n--- By Tendenci - The Open Source AMS for Associations ---\n
SUMMARY:Chinese Geo-economics and the Chinese Dream
PRIORITY:5
CLASS:PUBLIC
BEGIN:VALARM
TRIGGER:-PT30M
ACTION:DISPLAY
DESCRIPTION:Reminder
END:VALARM
END:VEVENT
BEGIN:VEVENT
DTSTAMP:20260422T083134Z
ORGANIZER:
DTSTART:20260527T170000Z
DTEND:20260527T184500Z
LOCATION:Les Salons
TRANSP:OPAQUE
SEQUENCE:0
UID:uid450@amclub.ch
DESCRIPTION:--- This iCal file does *NOT* confirm registration.\nEvent det
 ails subject to change. ---\nhttps://www.amclub.ch/events/450/\n\nEvent Ti
 tle: Exclusive Film Screening - The Comfort Dogs of Uganda\nStart Date / T
 ime: May 27, 2026 19:00 PM Europe/Zurich\nLocation: Les Salons\nGoogle\nht
 tp://maps.google.com/maps?q=rue+Jean-F.+Bartholoni+6,Geneva,1204\n\nForeca
 st\nhttp://www.weather.com/weather/monthly/1204\n\n\n\nFilm Screening and 
 Panel Discussion with director\n\n\n\n\n\n\n\nThe Comfort Dogs of Uganda |
  30 min | Documentary | 2025 | Australia | Director/Producer/Cinematograph
 er: Richard Wainwright \nWednesday 27 May 19.00-20.45 doors open 18.30/Les
  Salons, rue Jean-F Bartholoni 6, 1204 Gen&egrave\;ve\nAll proceeds from t
 he screening will go directly to the Comfort Dog Project. \n\n\n\n\n\n\n\n
 Following this exclusive screening of the film, there will be a Q&amp\;A s
 ession with the director, exploring the themes of the film. The theatre ba
 r will be open before and after the event. \n\n\n\n\n\n\nIn the shadow of 
 the brutal 20-year conflict in Northern Uganda, The Comfort Dog Project pa
 irs survivors of the Lord&rsquo\;s Resistance Army who are suffering sever
 e PTSD with rescued and abandoned dogs. The film highlights their transfor
 mative bond as both the survivors of the conflict and their dogs heal toge
 ther.\nWe meet Lucy and her dog Sadik, one of the program&rsquo\;s first g
 raduates\; Francis and his rescued guard dog Tommy\; and Jennifer who cred
 its her dog Ogen with saving her life. Interwoven with expert insight from
  human-animal bond researcher Meg Daley Olmert, the film explores how oxyt
 ocin, the &ldquo\;trust hormone,&rdquo\; plays a key role in this unique p
 ath to healing.\nA deeply moving exploration of trauma, recovery and the p
 ower of connection, The Comfort Dogs of Uganda is a visual testament to th
 e resilience of the human spirit and the extraordinary role dogs can play 
 in helping us find our way back to life.\n \n\n \n \n \n \n\n--- This iCal
  file does *NOT* confirm registration.Event details subject to change. ---
 \n\n--- By Tendenci - The Open Source AMS for Associations ---\n
SUMMARY:Exclusive Film Screening - The Comfort Dogs of Uganda
PRIORITY:5
CLASS:PUBLIC
BEGIN:VALARM
TRIGGER:-PT30M
ACTION:DISPLAY
DESCRIPTION:Reminder
END:VALARM
END:VEVENT
END:VCALENDAR
