BEGIN:VCALENDAR
VERSION:2.0
METHOD:PUBLISH
PRODID:-//Tendenci - The Open Source AMS for Associations//Tendenci Codeba
 se MIMEDIR//EN
BEGIN:VEVENT
DESCRIPTION:--- This iCal file does *NOT* confirm registration.\nEvent det
 ails subject to change. ---\nhttps://www.amclub.ch/events/39/\n\nEvent Tit
 le: SEPTEMBER 9 - LUNCHEON WITH HEINZ KARRER, PRESIDENT, ECONOMIESUISSE SW
 ISS BUSINESS FEDERATION\nStart Date / Time: Sep 09, 2015 11:30 AM GMT\nLoc
 ation: Mandarin Oriental \nSpeaker: HEINZ KARRER\nGoogle\nhttp://maps.goog
 le.com/maps?q=1+Quai+Turrettini,Genève,1201 \n\nForecast\nhttp://www.weat
 her.com/weather/monthly/1201 \n\n"SWITZERLAND IN THE GLOBAL MARKETPLACE"\n
 Coorganized by Swiss-American Chamber of Commerce\nTo register please go o
 n www.amcham.ch/events\n\n--- This iCal file does *NOT* confirm registrati
 on.Event details subject to change. ---\n\n--- By Tendenci - The Open Sour
 ce AMS for Associations ---\n
UID:uid39@amclub.ch
SUMMARY:SEPTEMBER 9 - LUNCHEON WITH HEINZ KARRER, PRESIDENT, ECONOMIESUISSE SWISS BUSINESS FEDERATION
DTSTART:20150909T113000Z
DTEND:20150909T140000Z
CLASS:PUBLIC
PRIORITY:5
DTSTAMP:20260420T151227Z
TRANSP:OPAQUE
SEQUENCE:0
LOCATION:Mandarin Oriental 
X-ALT-DESC;FMTTYPE=text/html:<div>--- This iCal file does *NOT* confirm re
 gistration.Event details subject to change. ---</div><h1>Event Title: SEPT
 EMBER 9 - LUNCHEON WITH HEINZ KARRER, PRESIDENT, ECONOMIESUISSE SWISS BUSI
 NESS FEDERATION</h1><div>https://www.amclub.ch/events/39/</div><br /><div>
 When: Sep 09, 2015 11:30 AM GMT</div><div>Speaker: HEINZ KARRER</div><br /
 >Mandarin Oriental <br />1 Quai Turrettini<br /> 1201 <br /><div>http://ma
 ps.google.com/maps?q=1+Quai+Turrettini,Genève,1201 </div><br /><div>Forec
 ast: http://www.weather.com/weather/monthly/1201 </div><br /><br /><div><p
 >"SWITZERLAND IN THE GLOBAL MARKETPLACE"</p> <p>Coorganized by Swiss-Ameri
 can Chamber of Commerce</p> <p>To register please go on <a href="http://ww
 w.amcham.ch/events/">www.amcham.ch/events</a></p></div><div>--- This iCal 
 file does *NOT* confirm registration.Event details subject to change. ---<
 /div><div>--- Tendenci&reg\; Software by <a href="https://www.tendenci.com
 ">tendenci.com</a> - The Open Source AMS for Associations ---</div>
BEGIN:VALARM
TRIGGER:-PT30M
ACTION:DISPLAY
DESCRIPTION:Reminder
END:VALARM
END:VEVENT
END:VCALENDAR
